BEGIN:VCALENDAR
VERSION:2.0
PRODID:-//hacksw/handcal//NONSGML v1.0//EN
BEGIN:VEVENT
SUMMARY:Match PNM
UID:f0aba751-493a-405b-96b6-3b4c295373b5
DTSTART:20260419T133000Z
DTEND:20260419T153000Z
LOCATION:Localisation   
CATEGORIES:Sportif
STATUS:
URL;VALUE=URI:https://www.coulommiers-brie-basket.com/evenements/2026/04/19/match-pnm-2444635
END:VEVENT
END:VCALENDAR
