BEGIN:VCALENDAR
VERSION:2.0
PRODID:-//hacksw/handcal//NONSGML v1.0//EN
BEGIN:VEVENT
SUMMARY:Match U18F
UID:f66c9b13-b1ba-4955-9019-5d3025338b98
DTSTART:20260418T140000Z
DTEND:20260418T160000Z
LOCATION:Localisation   
CATEGORIES:Sportif
STATUS:
URL;VALUE=URI:https://www.coulommiers-brie-basket.com/evenements/2026/04/18/match-u18f-2444639
END:VEVENT
END:VCALENDAR
