BEGIN:VCALENDAR
VERSION:2.0
PRODID:-//hacksw/handcal//NONSGML v1.0//EN
BEGIN:VEVENT
SUMMARY:Match DMLOI
UID:21f61ed8-d07c-41df-bbea-25d3fe1fc11f
DTSTART:20260418T180000Z
DTEND:20260418T190000Z
LOCATION:Localisation   
CATEGORIES:Sportif
STATUS:
URL;VALUE=URI:https://www.coulommiers-brie-basket.com/evenements/2026/04/18/match-dmloi-2444637
END:VEVENT
END:VCALENDAR
