BEGIN:VCALENDAR
VERSION:2.0
PRODID:-//hacksw/handcal//NONSGML v1.0//EN
BEGIN:VEVENT
SUMMARY:Match U18M-2
UID:d5ff3ac1-96eb-4fe9-a347-d29f4b992a01
DTSTART:20260412T110000Z
DTEND:20260412T130000Z
LOCATION:Localisation   
CATEGORIES:Sportif
STATUS:
URL;VALUE=URI:https://www.coulommiers-brie-basket.com/evenements/2026/04/12/match-u18m-2-2444616
END:VEVENT
END:VCALENDAR
