BEGIN:VCALENDAR
VERSION:2.0
PRODID:-//hacksw/handcal//NONSGML v1.0//EN
BEGIN:VEVENT
SUMMARY:Match U15F
UID:66cee630-05f0-411d-be68-eab6989052c0
DTSTART:20260412T093000Z
DTEND:20260412T113000Z
LOCATION:Localisation   
CATEGORIES:Sportif
STATUS:
URL;VALUE=URI:https://www.coulommiers-brie-basket.com/evenements/2026/04/12/match-u15f-2444626
END:VEVENT
END:VCALENDAR
