BEGIN:VCALENDAR
VERSION:2.0
PRODID:-//hacksw/handcal//NONSGML v1.0//EN
BEGIN:VEVENT
SUMMARY:Match RM3
UID:c9cde090-a5ce-4442-ab30-e523e196aefb
DTSTART:20260412T133000Z
DTEND:20260412T153000Z
LOCATION:Localisation   
CATEGORIES:Sportif
STATUS:
URL;VALUE=URI:https://www.coulommiers-brie-basket.com/evenements/2026/04/12/match-rm3-2444620
END:VEVENT
END:VCALENDAR
