BEGIN:VCALENDAR
VERSION:2.0
PRODID:-//hacksw/handcal//NONSGML v1.0//EN
BEGIN:VEVENT
SUMMARY:Match U18F
UID:d4a6c230-ae81-4467-bf11-35ca59b65665
DTSTART:20260411T133000Z
DTEND:20260411T153000Z
LOCATION:Localisation   
CATEGORIES:Sportif
STATUS:
URL;VALUE=URI:https://www.coulommiers-brie-basket.com/evenements/2026/04/11/match-u18f-2444621
END:VEVENT
END:VCALENDAR
