BEGIN:VCALENDAR
VERSION:2.0
PRODID:-//hacksw/handcal//NONSGML v1.0//EN
BEGIN:VEVENT
SUMMARY:Match U13M-1
UID:c0f22bcc-df0c-4d9a-b672-c29e9369a28c
DTSTART:20260411T130000Z
DTEND:20260411T150000Z
LOCATION:Localisation   
CATEGORIES:Sportif
STATUS:
URL;VALUE=URI:https://www.coulommiers-brie-basket.com/evenements/2026/04/11/match-u13m-1-2444623
END:VEVENT
END:VCALENDAR
