BEGIN:VCALENDAR
VERSION:2.0
PRODID:-//hacksw/handcal//NONSGML v1.0//EN
BEGIN:VEVENT
SUMMARY:Match U13F
UID:5659efea-4aeb-4632-9327-b76da7156b3b
DTSTART:20260411T153000Z
DTEND:20260411T173000Z
LOCATION:Localisation   
CATEGORIES:Sportif
STATUS:
URL;VALUE=URI:https://www.coulommiers-brie-basket.com/evenements/2026/04/11/match-u13f-2444619
END:VEVENT
END:VCALENDAR
