BEGIN:VCALENDAR
VERSION:2.0
PRODID:-//hacksw/handcal//NONSGML v1.0//EN
BEGIN:VEVENT
SUMMARY:Match DMLOI
UID:14b627e5-4266-4717-907a-74f9411b8561
DTSTART:20260411T170000Z
DTEND:20260411T190000Z
LOCATION:Localisation   
CATEGORIES:Sportif
STATUS:
URL;VALUE=URI:https://www.coulommiers-brie-basket.com/evenements/2026/04/11/match-dmloi-2444618
END:VEVENT
END:VCALENDAR
